BEGIN:VCALENDAR
VERSION:2.0
PRODID:DPCALENDAR
CALSCALE:GREGORIAN
BEGIN:VTIMEZONE
TZID:UTC
X-MICROSOFT-CDO-TZID:0
END:VTIMEZONE
X-WR-TIMEZONE:UTC
BEGIN:VEVENT
DTSTART;VALUE=DATE:20230216
DTEND;VALUE=DATE:20230217
RRULE:FREQ=WEEKLY;BYDAY=MO,TU,WE,TH,FR;INTERVAL=1;UNTIL=20231231T235900Z
UID:FEAC4670-AB78-416A-9103-66440D10CA1B
SUMMARY:Busy
DTSTAMP:20230216T092648Z
DESCRIPTION:
X-ALT-DESC;FMTTYPE=text/html:
X-ACCESS:1
X-HITS:0
X-URL:
X-COLOR:ff9143
X-SHOW-END-TIME:1
END:VEVENT
BEGIN:VEVENT
DTSTART;TZID=UTC:20240320T080000
DTEND;TZID=UTC:20240320T230000
RRULE:FREQ=WEEKLY;BYDAY=MO,TU,WE,TH,FR;INTERVAL=1;UNTIL=20241215T235900Z
UID:D73A7E95-3071-4F3E-B4B0-2C50D1AF533F
SUMMARY:Busy
DTSTAMP:20240320T090637Z
DESCRIPTION:
X-ALT-DESC;FMTTYPE=text/html:
LAST-MODIFIED:20241218T105316Z
X-ACCESS:1
X-HITS:0
X-URL:
X-COLOR:ff9143
X-SHOW-END-TIME:1
END:VEVENT
BEGIN:VEVENT
DTSTART;VALUE=DATE:20250201
DTEND;VALUE=DATE:20250202
RRULE:FREQ=DAILY;INTERVAL=1;UNTIL=20251231T235900Z
UID:8E3EF62D-C703-4C88-8E99-D9F990035DCD
SUMMARY:Busy
DTSTAMP:20250130T115059Z
DESCRIPTION:
X-ALT-DESC;FMTTYPE=text/html:
X-ACCESS:1
X-HITS:0
X-URL:
X-COLOR:ff9143
X-SHOW-END-TIME:1
END:VEVENT
BEGIN:VEVENT
DTSTART;VALUE=DATE:20251225
DTEND;VALUE=DATE:20251226
RRULE:FREQ=DAILY;INTERVAL=1;UNTIL=20260101T235900Z
UID:212E907D-BF55-4598-BA7E-F4B1E262FDA4
SUMMARY:Busy
DTSTAMP:20250113T093620Z
DESCRIPTION:
X-ALT-DESC;FMTTYPE=text/html:
X-ACCESS:1
X-HITS:0
X-URL:
X-COLOR:ff9143
X-SHOW-END-TIME:1
END:VEVENT
BEGIN:VEVENT
DTSTART;VALUE=DATE:20260101
DTEND;VALUE=DATE:20270101
UID:6AAA78AB-D05E-4174-BF04-00525E2E1383
SUMMARY:Busy
DTSTAMP:20250113T093620Z
DESCRIPTION:
X-ALT-DESC;FMTTYPE=text/html:
X-ACCESS:1
X-HITS:8
X-URL:
X-COLOR:ff9143
X-SHOW-END-TIME:1
END:VEVENT
END:VCALENDAR